BEGIN:VCALENDAR
VERSION:2.0
PRODID:-//Glasgow Blythswood Festival - ECPv6.10.0//NONSGML v1.0//EN
CALSCALE:GREGORIAN
METHOD:PUBLISH
X-ORIGINAL-URL:https://glasgowblythswoodfestival.co.uk
X-WR-CALDESC:Events for Glasgow Blythswood Festival
REFRESH-INTERVAL;VALUE=DURATION:PT1H
X-Robots-Tag:noindex
X-PUBLISHED-TTL:PT1H
BEGIN:VTIMEZONE
TZID:Europe/London
BEGIN:DAYLIGHT
TZOFFSETFROM:+0000
TZOFFSETTO:+0100
TZNAME:BST
DTSTART:20260329T010000
END:DAYLIGHT
BEGIN:STANDARD
TZOFFSETFROM:+0100
TZOFFSETTO:+0000
TZNAME:GMT
DTSTART:20261025T010000
END:STANDARD
END:VTIMEZONE
BEGIN:VEVENT
DTSTART;TZID=Europe/London:20260513T090000
DTEND;TZID=Europe/London:20260513T170000
DTSTAMP:20260424T153858
CREATED:20260311T165604Z
LAST-MODIFIED:20260312T102500Z
UID:10000572-1778662800-1778691600@glasgowblythswoodfestival.co.uk
SUMMARY:The National Piping Centre
DESCRIPTION:The National Piping Centre\, at the top of Hope Street \n\n\n\nAn international centre of music and hospitality\, world class tuition and performance. Visit the Museum of Piping at The National Piping Centre to explore 300 years of Scotland’s musical history in our permanent collection\, and try the bagpipes for yourself! \n\n\n\nEnjoy fascinating films on the history\, culture and music of the bagpipe – here and overseas – before trying your hand at playing this iconic Scottish instrument. Stepping through to the Pipers Tryst restaurant provides refreshment and sustenance all day and evening. \n\n\n\nGeneral admission is £5 for self-guided tour. Open Daily \n\n\n\nMonday – Friday 9am – 5pm (last entry 4pm) \n\n\n\nSaturday – Sunday 9am – 3pm (last entry 2pm) \n\n\n\nMeet the Piper Tours  \n\n\n\nDiscover the story behind Scotland’s national instrument with our Meet the Piper tour – a unique experience that brings piping history and tradition to life. Join us just before 12 noon where you will be greeted by a professional piper playing outside the building. Then guided by our piper host\, you’ll explore our Museum of Piping\, learn about the history and culture of the Great Highland Bagpipe. You will then be able to get hands on with the practice chanter to learn a tune and then try the bagpipes all live in this intimate setting. You’ll also have the chance to ask questions and see the instrument up close.A must-do for visitors looking for an authentic taste of Scottish heritage. \n\n\n\nThe Meet the Piper Tour is available on \n\n\n\nFridays and Saturdays 1st & 2nd May\, 8th & 9th May and 15th & 16th May all starting at 12noon.  \n\n\n\nEntry fee is £5 and the tour is included in the entry fee \n\n\n\nNo need to book\, arrive around 10 minutes before the start of the event to get your tickets on the day.  
URL:https://glasgowblythswoodfestival.co.uk/event/the-national-piping-centre/2026-05-13/
LOCATION:The National Piping Centre\, 30-34 McPhater Street\, Glasgow\, G4 6HW\, United Kingdom
CATEGORIES:Heritage & Tours
ATTACH;FMTTYPE=image/jpeg:https://glasgowblythswoodfestival.co.uk/wp-content/uploads/2026/03/NPC-Meet-the-Piper-large-DSC04636edit-scaled.jpg
END:VEVENT
BEGIN:VEVENT
DTSTART;TZID=Europe/London:20260514T090000
DTEND;TZID=Europe/London:20260514T170000
DTSTAMP:20260424T153858
CREATED:20260311T165604Z
LAST-MODIFIED:20260312T102500Z
UID:10000573-1778749200-1778778000@glasgowblythswoodfestival.co.uk
SUMMARY:The National Piping Centre
DESCRIPTION:The National Piping Centre\, at the top of Hope Street \n\n\n\nAn international centre of music and hospitality\, world class tuition and performance. Visit the Museum of Piping at The National Piping Centre to explore 300 years of Scotland’s musical history in our permanent collection\, and try the bagpipes for yourself! \n\n\n\nEnjoy fascinating films on the history\, culture and music of the bagpipe – here and overseas – before trying your hand at playing this iconic Scottish instrument. Stepping through to the Pipers Tryst restaurant provides refreshment and sustenance all day and evening. \n\n\n\nGeneral admission is £5 for self-guided tour. Open Daily \n\n\n\nMonday – Friday 9am – 5pm (last entry 4pm) \n\n\n\nSaturday – Sunday 9am – 3pm (last entry 2pm) \n\n\n\nMeet the Piper Tours  \n\n\n\nDiscover the story behind Scotland’s national instrument with our Meet the Piper tour – a unique experience that brings piping history and tradition to life. Join us just before 12 noon where you will be greeted by a professional piper playing outside the building. Then guided by our piper host\, you’ll explore our Museum of Piping\, learn about the history and culture of the Great Highland Bagpipe. You will then be able to get hands on with the practice chanter to learn a tune and then try the bagpipes all live in this intimate setting. You’ll also have the chance to ask questions and see the instrument up close.A must-do for visitors looking for an authentic taste of Scottish heritage. \n\n\n\nThe Meet the Piper Tour is available on \n\n\n\nFridays and Saturdays 1st & 2nd May\, 8th & 9th May and 15th & 16th May all starting at 12noon.  \n\n\n\nEntry fee is £5 and the tour is included in the entry fee \n\n\n\nNo need to book\, arrive around 10 minutes before the start of the event to get your tickets on the day.  
URL:https://glasgowblythswoodfestival.co.uk/event/the-national-piping-centre/2026-05-14/
LOCATION:The National Piping Centre\, 30-34 McPhater Street\, Glasgow\, G4 6HW\, United Kingdom
CATEGORIES:Heritage & Tours
ATTACH;FMTTYPE=image/jpeg:https://glasgowblythswoodfestival.co.uk/wp-content/uploads/2026/03/NPC-Meet-the-Piper-large-DSC04636edit-scaled.jpg
END:VEVENT
BEGIN:VEVENT
DTSTART;TZID=Europe/London:20260515T090000
DTEND;TZID=Europe/London:20260515T170000
DTSTAMP:20260424T153858
CREATED:20260311T165604Z
LAST-MODIFIED:20260312T102500Z
UID:10000574-1778835600-1778864400@glasgowblythswoodfestival.co.uk
SUMMARY:The National Piping Centre
DESCRIPTION:The National Piping Centre\, at the top of Hope Street \n\n\n\nAn international centre of music and hospitality\, world class tuition and performance. Visit the Museum of Piping at The National Piping Centre to explore 300 years of Scotland’s musical history in our permanent collection\, and try the bagpipes for yourself! \n\n\n\nEnjoy fascinating films on the history\, culture and music of the bagpipe – here and overseas – before trying your hand at playing this iconic Scottish instrument. Stepping through to the Pipers Tryst restaurant provides refreshment and sustenance all day and evening. \n\n\n\nGeneral admission is £5 for self-guided tour. Open Daily \n\n\n\nMonday – Friday 9am – 5pm (last entry 4pm) \n\n\n\nSaturday – Sunday 9am – 3pm (last entry 2pm) \n\n\n\nMeet the Piper Tours  \n\n\n\nDiscover the story behind Scotland’s national instrument with our Meet the Piper tour – a unique experience that brings piping history and tradition to life. Join us just before 12 noon where you will be greeted by a professional piper playing outside the building. Then guided by our piper host\, you’ll explore our Museum of Piping\, learn about the history and culture of the Great Highland Bagpipe. You will then be able to get hands on with the practice chanter to learn a tune and then try the bagpipes all live in this intimate setting. You’ll also have the chance to ask questions and see the instrument up close.A must-do for visitors looking for an authentic taste of Scottish heritage. \n\n\n\nThe Meet the Piper Tour is available on \n\n\n\nFridays and Saturdays 1st & 2nd May\, 8th & 9th May and 15th & 16th May all starting at 12noon.  \n\n\n\nEntry fee is £5 and the tour is included in the entry fee \n\n\n\nNo need to book\, arrive around 10 minutes before the start of the event to get your tickets on the day.  
URL:https://glasgowblythswoodfestival.co.uk/event/the-national-piping-centre/2026-05-15/
LOCATION:The National Piping Centre\, 30-34 McPhater Street\, Glasgow\, G4 6HW\, United Kingdom
CATEGORIES:Heritage & Tours
ATTACH;FMTTYPE=image/jpeg:https://glasgowblythswoodfestival.co.uk/wp-content/uploads/2026/03/NPC-Meet-the-Piper-large-DSC04636edit-scaled.jpg
END:VEVENT
BEGIN:VEVENT
DTSTART;TZID=Europe/London:20260516T090000
DTEND;TZID=Europe/London:20260516T170000
DTSTAMP:20260424T153858
CREATED:20260311T165604Z
LAST-MODIFIED:20260312T102500Z
UID:10000575-1778922000-1778950800@glasgowblythswoodfestival.co.uk
SUMMARY:The National Piping Centre
DESCRIPTION:The National Piping Centre\, at the top of Hope Street \n\n\n\nAn international centre of music and hospitality\, world class tuition and performance. Visit the Museum of Piping at The National Piping Centre to explore 300 years of Scotland’s musical history in our permanent collection\, and try the bagpipes for yourself! \n\n\n\nEnjoy fascinating films on the history\, culture and music of the bagpipe – here and overseas – before trying your hand at playing this iconic Scottish instrument. Stepping through to the Pipers Tryst restaurant provides refreshment and sustenance all day and evening. \n\n\n\nGeneral admission is £5 for self-guided tour. Open Daily \n\n\n\nMonday – Friday 9am – 5pm (last entry 4pm) \n\n\n\nSaturday – Sunday 9am – 3pm (last entry 2pm) \n\n\n\nMeet the Piper Tours  \n\n\n\nDiscover the story behind Scotland’s national instrument with our Meet the Piper tour – a unique experience that brings piping history and tradition to life. Join us just before 12 noon where you will be greeted by a professional piper playing outside the building. Then guided by our piper host\, you’ll explore our Museum of Piping\, learn about the history and culture of the Great Highland Bagpipe. You will then be able to get hands on with the practice chanter to learn a tune and then try the bagpipes all live in this intimate setting. You’ll also have the chance to ask questions and see the instrument up close.A must-do for visitors looking for an authentic taste of Scottish heritage. \n\n\n\nThe Meet the Piper Tour is available on \n\n\n\nFridays and Saturdays 1st & 2nd May\, 8th & 9th May and 15th & 16th May all starting at 12noon.  \n\n\n\nEntry fee is £5 and the tour is included in the entry fee \n\n\n\nNo need to book\, arrive around 10 minutes before the start of the event to get your tickets on the day.  
URL:https://glasgowblythswoodfestival.co.uk/event/the-national-piping-centre/2026-05-16/
LOCATION:The National Piping Centre\, 30-34 McPhater Street\, Glasgow\, G4 6HW\, United Kingdom
CATEGORIES:Heritage & Tours
ATTACH;FMTTYPE=image/jpeg:https://glasgowblythswoodfestival.co.uk/wp-content/uploads/2026/03/NPC-Meet-the-Piper-large-DSC04636edit-scaled.jpg
END:VEVENT
BEGIN:VEVENT
DTSTART;TZID=Europe/London:20260517T090000
DTEND;TZID=Europe/London:20260517T170000
DTSTAMP:20260424T153858
CREATED:20260311T165604Z
LAST-MODIFIED:20260312T102500Z
UID:10000576-1779008400-1779037200@glasgowblythswoodfestival.co.uk
SUMMARY:The National Piping Centre
DESCRIPTION:The National Piping Centre\, at the top of Hope Street \n\n\n\nAn international centre of music and hospitality\, world class tuition and performance. Visit the Museum of Piping at The National Piping Centre to explore 300 years of Scotland’s musical history in our permanent collection\, and try the bagpipes for yourself! \n\n\n\nEnjoy fascinating films on the history\, culture and music of the bagpipe – here and overseas – before trying your hand at playing this iconic Scottish instrument. Stepping through to the Pipers Tryst restaurant provides refreshment and sustenance all day and evening. \n\n\n\nGeneral admission is £5 for self-guided tour. Open Daily \n\n\n\nMonday – Friday 9am – 5pm (last entry 4pm) \n\n\n\nSaturday – Sunday 9am – 3pm (last entry 2pm) \n\n\n\nMeet the Piper Tours  \n\n\n\nDiscover the story behind Scotland’s national instrument with our Meet the Piper tour – a unique experience that brings piping history and tradition to life. Join us just before 12 noon where you will be greeted by a professional piper playing outside the building. Then guided by our piper host\, you’ll explore our Museum of Piping\, learn about the history and culture of the Great Highland Bagpipe. You will then be able to get hands on with the practice chanter to learn a tune and then try the bagpipes all live in this intimate setting. You’ll also have the chance to ask questions and see the instrument up close.A must-do for visitors looking for an authentic taste of Scottish heritage. \n\n\n\nThe Meet the Piper Tour is available on \n\n\n\nFridays and Saturdays 1st & 2nd May\, 8th & 9th May and 15th & 16th May all starting at 12noon.  \n\n\n\nEntry fee is £5 and the tour is included in the entry fee \n\n\n\nNo need to book\, arrive around 10 minutes before the start of the event to get your tickets on the day.  
URL:https://glasgowblythswoodfestival.co.uk/event/the-national-piping-centre/2026-05-17/
LOCATION:The National Piping Centre\, 30-34 McPhater Street\, Glasgow\, G4 6HW\, United Kingdom
CATEGORIES:Heritage & Tours
ATTACH;FMTTYPE=image/jpeg:https://glasgowblythswoodfestival.co.uk/wp-content/uploads/2026/03/NPC-Meet-the-Piper-large-DSC04636edit-scaled.jpg
END:VEVENT
END:VCALENDAR