BEGIN:VCALENDAR
VERSION:2.0
PRODID:-//Glasgow Blythswood Festival - ECPv6.10.0//NONSGML v1.0//EN
CALSCALE:GREGORIAN
METHOD:PUBLISH
X-ORIGINAL-URL:https://glasgowblythswoodfestival.co.uk
X-WR-CALDESC:Events for Glasgow Blythswood Festival
REFRESH-INTERVAL;VALUE=DURATION:PT1H
X-Robots-Tag:noindex
X-PUBLISHED-TTL:PT1H
BEGIN:VTIMEZONE
TZID:Europe/London
BEGIN:DAYLIGHT
TZOFFSETFROM:+0000
TZOFFSETTO:+0100
TZNAME:BST
DTSTART:20260329T010000
END:DAYLIGHT
BEGIN:STANDARD
TZOFFSETFROM:+0100
TZOFFSETTO:+0000
TZNAME:GMT
DTSTART:20261025T010000
END:STANDARD
END:VTIMEZONE
BEGIN:VEVENT
DTSTART;TZID=Europe/London:20260501T100000
DTEND;TZID=Europe/London:20260501T150000
DTSTAMP:20260424T142249
CREATED:20260308T211803Z
LAST-MODIFIED:20260310T133655Z
UID:10000544-1777629600-1777647600@glasgowblythswoodfestival.co.uk
SUMMARY:Royal Highland Fusiliers Museum
DESCRIPTION:Royal Highland Fusiliers Museum\,  518 Sauchiehall Street\, Charing Cross \n\n\n\nIn the only regimental museum in the West of Scotland\, see over 300 years of regimental life and active duty of today’s Regiment around the globe\, combining Glasgow’s famous Highland Light Infantry and the Royal Scots Fusiliers of Ayrshire and Glasgow\, and their volunteer origins. \n\n\n\nFollow them\, their recruitment\, training and soldiering around the world\, in North America\, continental Europe\, India and Africa in the 18th and 19th centuries. And the world wars of WWI and WWII\, and later campaigns including Malaya\, Iraq and Afghanistan. View rare collections of uniforms\, equipment\,  medals\, maps\,  rations\, letters\, pictures and other memorabilia. \n\n\n\nAmong many themes on display\, witness the  71st and 74th of Foot in the Peninsula Campaign and Waterloo 1807-1815.    \n\n\n\nJoin two Special Events. One  in the Colonel of the Regiments Room\, on the third floor. is on Thursday 7th May: Lunch time talk.   12.30-13.30    Glasgow’s Finest: Stories of the Victoria Cross\, and the other is in the main gallery on Saturday 16th May: Afternoon.   14.00 -15.30    Victoria Cross displays.  \n\n\n\nMore details are on the page for the 7th and for the 16th.   \n\n\n\nGuided tours\, school visits\, family and children’s events can be arranged. \n\n\n\nThe RHF Museum ground floor is on street level\, upper floors access by stairs. \n\n\n\nFree entry\, donations welcome.
URL:https://glasgowblythswoodfestival.co.uk/event/royal-highland-fusiliers-museum/2026-05-01/
LOCATION:Royal Highland Fusiliers Museum\, 518 Sauchiehall Street\, Glasgow
CATEGORIES:Heritage & Tours
ATTACH;FMTTYPE=image/jpeg:https://glasgowblythswoodfestival.co.uk/wp-content/uploads/2026/03/RHF-1-2026-comp1-scaled.jpg
END:VEVENT
BEGIN:VEVENT
DTSTART;TZID=Europe/London:20260505T100000
DTEND;TZID=Europe/London:20260505T150000
DTSTAMP:20260424T142249
CREATED:20260308T223608Z
LAST-MODIFIED:20260310T133453Z
UID:10000536-1777975200-1777993200@glasgowblythswoodfestival.co.uk
SUMMARY:Royal Highland Fusiliers Museum
DESCRIPTION:Royal Highland Fusiliers Museum\,  518 Sauchiehall Street\, Charing Cross \n\n\n\nIn the only regimental museum in the West of Scotland\, see over 300 years of regimental life and active duty of today’s Regiment around the globe\, combining Glasgow’s famous Highland Light Infantry and the Royal Scots Fusiliers of Ayrshire and Glasgow\, and their volunteer origins. \n\n\n\nFollow them\, their recruitment\, training and soldiering around the world\, in North America\, continental Europe\, India and Africa in the 18th and 19th centuries. And the world wars of WWI and WWII\, and later campaigns including Malaya\, Iraq and Afghanistan. View rare collections of uniforms\, equipment\,  medals\, maps\,  rations\, letters\, pictures and other memorabilia. \n\n\n\nAmong many themes on display\, witness the  71st and 74th of Foot in the Peninsula Campaign and Waterloo 1807-1815.    \n\n\n\nJoin two Special Events. One in the Colonel of the Regiments Room\, on the third floor is on Thursday 7th May: Lunch time talk.   12.30-13.30    Glasgow’s Finest: Stories of the Victoria Cross\, and the following week in the main gallery on Saturday 16th May: Afternoon.   14.00 -15.30    Victoria Cross displays.  \n\n\n\nMore details are on the page for the 7th and for the 16th.   \n\n\n\nGuided tours\, school visits\, family and children’s events can be arranged. \n\n\n\nThe RHF Museum ground floor is on street level\, upper floors access by stairs. \n\n\n\nFree entry\, donations welcome.
URL:https://glasgowblythswoodfestival.co.uk/event/royal-highland-fusiliers-museum-4/
LOCATION:Royal Highland Fusiliers Museum\, 518 Sauchiehall Street\, Glasgow
CATEGORIES:Heritage & Tours
ATTACH;FMTTYPE=image/jpeg:https://glasgowblythswoodfestival.co.uk/wp-content/uploads/2026/03/RHF-1-2026-comp1-scaled.jpg
END:VEVENT
BEGIN:VEVENT
DTSTART;TZID=Europe/London:20260506T100000
DTEND;TZID=Europe/London:20260506T150000
DTSTAMP:20260424T142249
CREATED:20260308T211803Z
LAST-MODIFIED:20260310T133655Z
UID:10000537-1778061600-1778079600@glasgowblythswoodfestival.co.uk
SUMMARY:Royal Highland Fusiliers Museum
DESCRIPTION:Royal Highland Fusiliers Museum\,  518 Sauchiehall Street\, Charing Cross \n\n\n\nIn the only regimental museum in the West of Scotland\, see over 300 years of regimental life and active duty of today’s Regiment around the globe\, combining Glasgow’s famous Highland Light Infantry and the Royal Scots Fusiliers of Ayrshire and Glasgow\, and their volunteer origins. \n\n\n\nFollow them\, their recruitment\, training and soldiering around the world\, in North America\, continental Europe\, India and Africa in the 18th and 19th centuries. And the world wars of WWI and WWII\, and later campaigns including Malaya\, Iraq and Afghanistan. View rare collections of uniforms\, equipment\,  medals\, maps\,  rations\, letters\, pictures and other memorabilia. \n\n\n\nAmong many themes on display\, witness the  71st and 74th of Foot in the Peninsula Campaign and Waterloo 1807-1815.    \n\n\n\nJoin two Special Events. One  in the Colonel of the Regiments Room\, on the third floor. is on Thursday 7th May: Lunch time talk.   12.30-13.30    Glasgow’s Finest: Stories of the Victoria Cross\, and the other is in the main gallery on Saturday 16th May: Afternoon.   14.00 -15.30    Victoria Cross displays.  \n\n\n\nMore details are on the page for the 7th and for the 16th.   \n\n\n\nGuided tours\, school visits\, family and children’s events can be arranged. \n\n\n\nThe RHF Museum ground floor is on street level\, upper floors access by stairs. \n\n\n\nFree entry\, donations welcome.
URL:https://glasgowblythswoodfestival.co.uk/event/royal-highland-fusiliers-museum/2026-05-06/
LOCATION:Royal Highland Fusiliers Museum\, 518 Sauchiehall Street\, Glasgow
CATEGORIES:Heritage & Tours
ATTACH;FMTTYPE=image/jpeg:https://glasgowblythswoodfestival.co.uk/wp-content/uploads/2026/03/RHF-1-2026-comp1-scaled.jpg
END:VEVENT
BEGIN:VEVENT
DTSTART;TZID=Europe/London:20260507T100000
DTEND;TZID=Europe/London:20260507T150000
DTSTAMP:20260424T142249
CREATED:20260308T213338Z
LAST-MODIFIED:20260310T134040Z
UID:10000535-1778148000-1778166000@glasgowblythswoodfestival.co.uk
SUMMARY:Royal Highland Fusiliers Museum
DESCRIPTION:Royal Highland Fusiliers Museum  518 Sauchiehall Street\, Charing Cross \n\n\n\nIn the only regimental museum in the West of Scotland\, see over 300 years of regimental life and active duty of today’s Regiment around the globe\, combining Glasgow’s famous Highland Light Infantry and the Royal Scots Fusiliers of Ayrshire and Glasgow\, and their volunteer origins. \n\n\n\nFollow them\, their recruitment\, training and soldiering around the world\, in North America\, continental Europe\, India and Africa in the 18th and 19th centuries. And the world wars of WWI and WWII\, and later campaigns including Malaya\, Iraq and Afghanistan. View rare collections of uniforms\, equipment\,  medals\, maps\,  rations\, letters\, pictures and other memorabilia. \n\n\n\nAmong many themes on display\, witness the  71st and 74th of Foot in the Peninsula Campaign and Waterloo 1807-1815.    \n\n\n\nSpecial Event in the Colonel of the Regiments Room\, on the third floor.: \n\n\n\nThursday 7 May:  12.30-13.30    Glasgow’s Finest: Stories of the Victoria Cross. Join Colonel Niall Campbell for a brief history on the Victoria Cross\, the most prestigious medal for valour awarded by the British Military\, and deep dive into the tales of some of the Highland Light Infantry and Royal Scots Fusiliers soldiers who received the award. The talk will be followed by an exclusive opportunity to view a select few original Victoria Crosses from the Museum’s collection \n\n\n\nSaturday 16th May: Afternoon.   14.00 -15.30    Victoria Cross displays.  \n\n\n\n \n\n\n\nGuided tours\, school visits\, family and children’s events can be arranged. \n\n\n\nThe RHF Museum ground floor is on street level\, upper floors access by stairs. \n\n\n\nFree entry\, donations welcome.
URL:https://glasgowblythswoodfestival.co.uk/event/royal-highland-fusiliers-museum-2/
LOCATION:Royal Highland Fusiliers Museum\, 518 Sauchiehall Street\, Glasgow
CATEGORIES:Heritage & Tours,Talks
ATTACH;FMTTYPE=image/jpeg:https://glasgowblythswoodfestival.co.uk/wp-content/uploads/2026/03/RHF-2-2026-with-VC-soldiers_M3B2810-1-scaled.jpg
END:VEVENT
BEGIN:VEVENT
DTSTART;TZID=Europe/London:20260508T100000
DTEND;TZID=Europe/London:20260508T150000
DTSTAMP:20260424T142249
CREATED:20260308T211803Z
LAST-MODIFIED:20260310T133655Z
UID:10000538-1778234400-1778252400@glasgowblythswoodfestival.co.uk
SUMMARY:Royal Highland Fusiliers Museum
DESCRIPTION:Royal Highland Fusiliers Museum\,  518 Sauchiehall Street\, Charing Cross \n\n\n\nIn the only regimental museum in the West of Scotland\, see over 300 years of regimental life and active duty of today’s Regiment around the globe\, combining Glasgow’s famous Highland Light Infantry and the Royal Scots Fusiliers of Ayrshire and Glasgow\, and their volunteer origins. \n\n\n\nFollow them\, their recruitment\, training and soldiering around the world\, in North America\, continental Europe\, India and Africa in the 18th and 19th centuries. And the world wars of WWI and WWII\, and later campaigns including Malaya\, Iraq and Afghanistan. View rare collections of uniforms\, equipment\,  medals\, maps\,  rations\, letters\, pictures and other memorabilia. \n\n\n\nAmong many themes on display\, witness the  71st and 74th of Foot in the Peninsula Campaign and Waterloo 1807-1815.    \n\n\n\nJoin two Special Events. One  in the Colonel of the Regiments Room\, on the third floor. is on Thursday 7th May: Lunch time talk.   12.30-13.30    Glasgow’s Finest: Stories of the Victoria Cross\, and the other is in the main gallery on Saturday 16th May: Afternoon.   14.00 -15.30    Victoria Cross displays.  \n\n\n\nMore details are on the page for the 7th and for the 16th.   \n\n\n\nGuided tours\, school visits\, family and children’s events can be arranged. \n\n\n\nThe RHF Museum ground floor is on street level\, upper floors access by stairs. \n\n\n\nFree entry\, donations welcome.
URL:https://glasgowblythswoodfestival.co.uk/event/royal-highland-fusiliers-museum/2026-05-08/
LOCATION:Royal Highland Fusiliers Museum\, 518 Sauchiehall Street\, Glasgow
CATEGORIES:Heritage & Tours
ATTACH;FMTTYPE=image/jpeg:https://glasgowblythswoodfestival.co.uk/wp-content/uploads/2026/03/RHF-1-2026-comp1-scaled.jpg
END:VEVENT
BEGIN:VEVENT
DTSTART;TZID=Europe/London:20260512T100000
DTEND;TZID=Europe/London:20260512T150000
DTSTAMP:20260424T142249
CREATED:20260308T211803Z
LAST-MODIFIED:20260310T133655Z
UID:10000539-1778580000-1778598000@glasgowblythswoodfestival.co.uk
SUMMARY:Royal Highland Fusiliers Museum
DESCRIPTION:Royal Highland Fusiliers Museum\,  518 Sauchiehall Street\, Charing Cross \n\n\n\nIn the only regimental museum in the West of Scotland\, see over 300 years of regimental life and active duty of today’s Regiment around the globe\, combining Glasgow’s famous Highland Light Infantry and the Royal Scots Fusiliers of Ayrshire and Glasgow\, and their volunteer origins. \n\n\n\nFollow them\, their recruitment\, training and soldiering around the world\, in North America\, continental Europe\, India and Africa in the 18th and 19th centuries. And the world wars of WWI and WWII\, and later campaigns including Malaya\, Iraq and Afghanistan. View rare collections of uniforms\, equipment\,  medals\, maps\,  rations\, letters\, pictures and other memorabilia. \n\n\n\nAmong many themes on display\, witness the  71st and 74th of Foot in the Peninsula Campaign and Waterloo 1807-1815.    \n\n\n\nJoin two Special Events. One  in the Colonel of the Regiments Room\, on the third floor. is on Thursday 7th May: Lunch time talk.   12.30-13.30    Glasgow’s Finest: Stories of the Victoria Cross\, and the other is in the main gallery on Saturday 16th May: Afternoon.   14.00 -15.30    Victoria Cross displays.  \n\n\n\nMore details are on the page for the 7th and for the 16th.   \n\n\n\nGuided tours\, school visits\, family and children’s events can be arranged. \n\n\n\nThe RHF Museum ground floor is on street level\, upper floors access by stairs. \n\n\n\nFree entry\, donations welcome.
URL:https://glasgowblythswoodfestival.co.uk/event/royal-highland-fusiliers-museum/2026-05-12/
LOCATION:Royal Highland Fusiliers Museum\, 518 Sauchiehall Street\, Glasgow
CATEGORIES:Heritage & Tours
ATTACH;FMTTYPE=image/jpeg:https://glasgowblythswoodfestival.co.uk/wp-content/uploads/2026/03/RHF-1-2026-comp1-scaled.jpg
END:VEVENT
BEGIN:VEVENT
DTSTART;TZID=Europe/London:20260513T100000
DTEND;TZID=Europe/London:20260513T150000
DTSTAMP:20260424T142249
CREATED:20260308T211803Z
LAST-MODIFIED:20260310T133655Z
UID:10000540-1778666400-1778684400@glasgowblythswoodfestival.co.uk
SUMMARY:Royal Highland Fusiliers Museum
DESCRIPTION:Royal Highland Fusiliers Museum\,  518 Sauchiehall Street\, Charing Cross \n\n\n\nIn the only regimental museum in the West of Scotland\, see over 300 years of regimental life and active duty of today’s Regiment around the globe\, combining Glasgow’s famous Highland Light Infantry and the Royal Scots Fusiliers of Ayrshire and Glasgow\, and their volunteer origins. \n\n\n\nFollow them\, their recruitment\, training and soldiering around the world\, in North America\, continental Europe\, India and Africa in the 18th and 19th centuries. And the world wars of WWI and WWII\, and later campaigns including Malaya\, Iraq and Afghanistan. View rare collections of uniforms\, equipment\,  medals\, maps\,  rations\, letters\, pictures and other memorabilia. \n\n\n\nAmong many themes on display\, witness the  71st and 74th of Foot in the Peninsula Campaign and Waterloo 1807-1815.    \n\n\n\nJoin two Special Events. One  in the Colonel of the Regiments Room\, on the third floor. is on Thursday 7th May: Lunch time talk.   12.30-13.30    Glasgow’s Finest: Stories of the Victoria Cross\, and the other is in the main gallery on Saturday 16th May: Afternoon.   14.00 -15.30    Victoria Cross displays.  \n\n\n\nMore details are on the page for the 7th and for the 16th.   \n\n\n\nGuided tours\, school visits\, family and children’s events can be arranged. \n\n\n\nThe RHF Museum ground floor is on street level\, upper floors access by stairs. \n\n\n\nFree entry\, donations welcome.
URL:https://glasgowblythswoodfestival.co.uk/event/royal-highland-fusiliers-museum/2026-05-13/
LOCATION:Royal Highland Fusiliers Museum\, 518 Sauchiehall Street\, Glasgow
CATEGORIES:Heritage & Tours
ATTACH;FMTTYPE=image/jpeg:https://glasgowblythswoodfestival.co.uk/wp-content/uploads/2026/03/RHF-1-2026-comp1-scaled.jpg
END:VEVENT
BEGIN:VEVENT
DTSTART;TZID=Europe/London:20260514T100000
DTEND;TZID=Europe/London:20260514T150000
DTSTAMP:20260424T142249
CREATED:20260308T211803Z
LAST-MODIFIED:20260310T133655Z
UID:10000541-1778752800-1778770800@glasgowblythswoodfestival.co.uk
SUMMARY:Royal Highland Fusiliers Museum
DESCRIPTION:Royal Highland Fusiliers Museum\,  518 Sauchiehall Street\, Charing Cross \n\n\n\nIn the only regimental museum in the West of Scotland\, see over 300 years of regimental life and active duty of today’s Regiment around the globe\, combining Glasgow’s famous Highland Light Infantry and the Royal Scots Fusiliers of Ayrshire and Glasgow\, and their volunteer origins. \n\n\n\nFollow them\, their recruitment\, training and soldiering around the world\, in North America\, continental Europe\, India and Africa in the 18th and 19th centuries. And the world wars of WWI and WWII\, and later campaigns including Malaya\, Iraq and Afghanistan. View rare collections of uniforms\, equipment\,  medals\, maps\,  rations\, letters\, pictures and other memorabilia. \n\n\n\nAmong many themes on display\, witness the  71st and 74th of Foot in the Peninsula Campaign and Waterloo 1807-1815.    \n\n\n\nJoin two Special Events. One  in the Colonel of the Regiments Room\, on the third floor. is on Thursday 7th May: Lunch time talk.   12.30-13.30    Glasgow’s Finest: Stories of the Victoria Cross\, and the other is in the main gallery on Saturday 16th May: Afternoon.   14.00 -15.30    Victoria Cross displays.  \n\n\n\nMore details are on the page for the 7th and for the 16th.   \n\n\n\nGuided tours\, school visits\, family and children’s events can be arranged. \n\n\n\nThe RHF Museum ground floor is on street level\, upper floors access by stairs. \n\n\n\nFree entry\, donations welcome.
URL:https://glasgowblythswoodfestival.co.uk/event/royal-highland-fusiliers-museum/2026-05-14/
LOCATION:Royal Highland Fusiliers Museum\, 518 Sauchiehall Street\, Glasgow
CATEGORIES:Heritage & Tours
ATTACH;FMTTYPE=image/jpeg:https://glasgowblythswoodfestival.co.uk/wp-content/uploads/2026/03/RHF-1-2026-comp1-scaled.jpg
END:VEVENT
BEGIN:VEVENT
DTSTART;TZID=Europe/London:20260515T100000
DTEND;TZID=Europe/London:20260515T150000
DTSTAMP:20260424T142249
CREATED:20260308T211803Z
LAST-MODIFIED:20260310T133655Z
UID:10000542-1778839200-1778857200@glasgowblythswoodfestival.co.uk
SUMMARY:Royal Highland Fusiliers Museum
DESCRIPTION:Royal Highland Fusiliers Museum\,  518 Sauchiehall Street\, Charing Cross \n\n\n\nIn the only regimental museum in the West of Scotland\, see over 300 years of regimental life and active duty of today’s Regiment around the globe\, combining Glasgow’s famous Highland Light Infantry and the Royal Scots Fusiliers of Ayrshire and Glasgow\, and their volunteer origins. \n\n\n\nFollow them\, their recruitment\, training and soldiering around the world\, in North America\, continental Europe\, India and Africa in the 18th and 19th centuries. And the world wars of WWI and WWII\, and later campaigns including Malaya\, Iraq and Afghanistan. View rare collections of uniforms\, equipment\,  medals\, maps\,  rations\, letters\, pictures and other memorabilia. \n\n\n\nAmong many themes on display\, witness the  71st and 74th of Foot in the Peninsula Campaign and Waterloo 1807-1815.    \n\n\n\nJoin two Special Events. One  in the Colonel of the Regiments Room\, on the third floor. is on Thursday 7th May: Lunch time talk.   12.30-13.30    Glasgow’s Finest: Stories of the Victoria Cross\, and the other is in the main gallery on Saturday 16th May: Afternoon.   14.00 -15.30    Victoria Cross displays.  \n\n\n\nMore details are on the page for the 7th and for the 16th.   \n\n\n\nGuided tours\, school visits\, family and children’s events can be arranged. \n\n\n\nThe RHF Museum ground floor is on street level\, upper floors access by stairs. \n\n\n\nFree entry\, donations welcome.
URL:https://glasgowblythswoodfestival.co.uk/event/royal-highland-fusiliers-museum/2026-05-15/
LOCATION:Royal Highland Fusiliers Museum\, 518 Sauchiehall Street\, Glasgow
CATEGORIES:Heritage & Tours
ATTACH;FMTTYPE=image/jpeg:https://glasgowblythswoodfestival.co.uk/wp-content/uploads/2026/03/RHF-1-2026-comp1-scaled.jpg
END:VEVENT
END:VCALENDAR