BEGIN:VCALENDAR
VERSION:2.0
PRODID:-//Glasgow Blythswood Festival - ECPv6.10.0//NONSGML v1.0//EN
CALSCALE:GREGORIAN
METHOD:PUBLISH
X-ORIGINAL-URL:https://glasgowblythswoodfestival.co.uk
X-WR-CALDESC:Events for Glasgow Blythswood Festival
REFRESH-INTERVAL;VALUE=DURATION:PT1H
X-Robots-Tag:noindex
X-PUBLISHED-TTL:PT1H
BEGIN:VTIMEZONE
TZID:Europe/London
BEGIN:DAYLIGHT
TZOFFSETFROM:+0000
TZOFFSETTO:+0100
TZNAME:BST
DTSTART:20260329T010000
END:DAYLIGHT
BEGIN:STANDARD
TZOFFSETFROM:+0100
TZOFFSETTO:+0000
TZNAME:GMT
DTSTART:20261025T010000
END:STANDARD
END:VTIMEZONE
BEGIN:VEVENT
DTSTART;TZID=Europe/London:20260502T120000
DTEND;TZID=Europe/London:20260502T160000
DTSTAMP:20260424T172656
CREATED:20260308T204956Z
LAST-MODIFIED:20260317T114156Z
UID:10000526-1777723200-1777737600@glasgowblythswoodfestival.co.uk
SUMMARY:Exhibition: ‘Music\, Mackintosh & Murder’ 
DESCRIPTION:RGI Kelly Gallery \n\n\n\nSet in its modern Kelly Gallery near Blythswood Square\, the Royal Glasgow Institute of the Fine Arts hosts a special exhibition.  Inspired by the legacy of Charles Rennie Mackintosh\, Glasgow’s vibrant music scene and its popular crime stories\, the gallery will host new work by current RGI members and entertain the viewers with the deadly mix of culture and crime that Glaswegians love. \n\n\n\nThe contemporary art scene in Glasgow is known for its experimental energy and strong community of artists. While much of the work is forward-looking and conceptual\, the influence of Charles Rennie Mackintosh continues in the city’s creative identity. Institutions such as the Glasgow School of Art have helped shape generations of artists\, linking Mackintosh’s elegant design legacy with today’s bold\, contemporary practices. Our music scene is raw\, energetic and constantly evolving.  \n\n\n\nGlasgow crime writer Alex Grey officially opens the exhibition on the 2nd of May. \n\n\n\nExhibition continuing to 13 June. \n\n\n\nFree entry
URL:https://glasgowblythswoodfestival.co.uk/event/exhibition-music-mackintosh-murder/2026-05-02/
LOCATION:RGI Kelly Gallery\, 118 Douglas Street\, Glasgow
CATEGORIES:Arts
ATTACH;FMTTYPE=image/jpeg:https://glasgowblythswoodfestival.co.uk/wp-content/uploads/2025/03/RGI1-Glasgow_Institute_Of_The_Fine_Arts.jpg
END:VEVENT
BEGIN:VEVENT
DTSTART;TZID=Europe/London:20260504T100000
DTEND;TZID=Europe/London:20260504T170000
DTSTAMP:20260424T172656
CREATED:20260308T204956Z
LAST-MODIFIED:20260317T114156Z
UID:10000527-1777888800-1777914000@glasgowblythswoodfestival.co.uk
SUMMARY:Exhibition: ‘Music\, Mackintosh & Murder’ 
DESCRIPTION:RGI Kelly Gallery \n\n\n\nSet in its modern Kelly Gallery near Blythswood Square\, the Royal Glasgow Institute of the Fine Arts hosts a special exhibition.  Inspired by the legacy of Charles Rennie Mackintosh\, Glasgow’s vibrant music scene and its popular crime stories\, the gallery will host new work by current RGI members and entertain the viewers with the deadly mix of culture and crime that Glaswegians love. \n\n\n\nThe contemporary art scene in Glasgow is known for its experimental energy and strong community of artists. While much of the work is forward-looking and conceptual\, the influence of Charles Rennie Mackintosh continues in the city’s creative identity. Institutions such as the Glasgow School of Art have helped shape generations of artists\, linking Mackintosh’s elegant design legacy with today’s bold\, contemporary practices. Our music scene is raw\, energetic and constantly evolving.  \n\n\n\nGlasgow crime writer Alex Grey officially opens the exhibition on the 2nd of May. \n\n\n\nExhibition continuing to 13 June. \n\n\n\nFree entry
URL:https://glasgowblythswoodfestival.co.uk/event/exhibition-music-mackintosh-murder/2026-05-04/
LOCATION:RGI Kelly Gallery\, 118 Douglas Street\, Glasgow
CATEGORIES:Arts
ATTACH;FMTTYPE=image/jpeg:https://glasgowblythswoodfestival.co.uk/wp-content/uploads/2025/03/RGI1-Glasgow_Institute_Of_The_Fine_Arts.jpg
END:VEVENT
BEGIN:VEVENT
DTSTART;TZID=Europe/London:20260505T100000
DTEND;TZID=Europe/London:20260505T170000
DTSTAMP:20260424T172656
CREATED:20260308T204956Z
LAST-MODIFIED:20260317T114156Z
UID:10000528-1777975200-1778000400@glasgowblythswoodfestival.co.uk
SUMMARY:Exhibition: ‘Music\, Mackintosh & Murder’ 
DESCRIPTION:RGI Kelly Gallery \n\n\n\nSet in its modern Kelly Gallery near Blythswood Square\, the Royal Glasgow Institute of the Fine Arts hosts a special exhibition.  Inspired by the legacy of Charles Rennie Mackintosh\, Glasgow’s vibrant music scene and its popular crime stories\, the gallery will host new work by current RGI members and entertain the viewers with the deadly mix of culture and crime that Glaswegians love. \n\n\n\nThe contemporary art scene in Glasgow is known for its experimental energy and strong community of artists. While much of the work is forward-looking and conceptual\, the influence of Charles Rennie Mackintosh continues in the city’s creative identity. Institutions such as the Glasgow School of Art have helped shape generations of artists\, linking Mackintosh’s elegant design legacy with today’s bold\, contemporary practices. Our music scene is raw\, energetic and constantly evolving.  \n\n\n\nGlasgow crime writer Alex Grey officially opens the exhibition on the 2nd of May. \n\n\n\nExhibition continuing to 13 June. \n\n\n\nFree entry
URL:https://glasgowblythswoodfestival.co.uk/event/exhibition-music-mackintosh-murder/2026-05-05/
LOCATION:RGI Kelly Gallery\, 118 Douglas Street\, Glasgow
CATEGORIES:Arts
ATTACH;FMTTYPE=image/jpeg:https://glasgowblythswoodfestival.co.uk/wp-content/uploads/2025/03/RGI1-Glasgow_Institute_Of_The_Fine_Arts.jpg
END:VEVENT
BEGIN:VEVENT
DTSTART;TZID=Europe/London:20260506T100000
DTEND;TZID=Europe/London:20260506T170000
DTSTAMP:20260424T172656
CREATED:20260308T204956Z
LAST-MODIFIED:20260317T114156Z
UID:10000529-1778061600-1778086800@glasgowblythswoodfestival.co.uk
SUMMARY:Exhibition: ‘Music\, Mackintosh & Murder’ 
DESCRIPTION:RGI Kelly Gallery \n\n\n\nSet in its modern Kelly Gallery near Blythswood Square\, the Royal Glasgow Institute of the Fine Arts hosts a special exhibition.  Inspired by the legacy of Charles Rennie Mackintosh\, Glasgow’s vibrant music scene and its popular crime stories\, the gallery will host new work by current RGI members and entertain the viewers with the deadly mix of culture and crime that Glaswegians love. \n\n\n\nThe contemporary art scene in Glasgow is known for its experimental energy and strong community of artists. While much of the work is forward-looking and conceptual\, the influence of Charles Rennie Mackintosh continues in the city’s creative identity. Institutions such as the Glasgow School of Art have helped shape generations of artists\, linking Mackintosh’s elegant design legacy with today’s bold\, contemporary practices. Our music scene is raw\, energetic and constantly evolving.  \n\n\n\nGlasgow crime writer Alex Grey officially opens the exhibition on the 2nd of May. \n\n\n\nExhibition continuing to 13 June. \n\n\n\nFree entry
URL:https://glasgowblythswoodfestival.co.uk/event/exhibition-music-mackintosh-murder/2026-05-06/
LOCATION:RGI Kelly Gallery\, 118 Douglas Street\, Glasgow
CATEGORIES:Arts
ATTACH;FMTTYPE=image/jpeg:https://glasgowblythswoodfestival.co.uk/wp-content/uploads/2025/03/RGI1-Glasgow_Institute_Of_The_Fine_Arts.jpg
END:VEVENT
BEGIN:VEVENT
DTSTART;TZID=Europe/London:20260509T120000
DTEND;TZID=Europe/London:20260509T160000
DTSTAMP:20260424T172656
CREATED:20260308T204956Z
LAST-MODIFIED:20260317T114156Z
UID:10000530-1778328000-1778342400@glasgowblythswoodfestival.co.uk
SUMMARY:Exhibition: ‘Music\, Mackintosh & Murder’ 
DESCRIPTION:RGI Kelly Gallery \n\n\n\nSet in its modern Kelly Gallery near Blythswood Square\, the Royal Glasgow Institute of the Fine Arts hosts a special exhibition.  Inspired by the legacy of Charles Rennie Mackintosh\, Glasgow’s vibrant music scene and its popular crime stories\, the gallery will host new work by current RGI members and entertain the viewers with the deadly mix of culture and crime that Glaswegians love. \n\n\n\nThe contemporary art scene in Glasgow is known for its experimental energy and strong community of artists. While much of the work is forward-looking and conceptual\, the influence of Charles Rennie Mackintosh continues in the city’s creative identity. Institutions such as the Glasgow School of Art have helped shape generations of artists\, linking Mackintosh’s elegant design legacy with today’s bold\, contemporary practices. Our music scene is raw\, energetic and constantly evolving.  \n\n\n\nGlasgow crime writer Alex Grey officially opens the exhibition on the 2nd of May. \n\n\n\nExhibition continuing to 13 June. \n\n\n\nFree entry
URL:https://glasgowblythswoodfestival.co.uk/event/exhibition-music-mackintosh-murder/2026-05-09/
LOCATION:RGI Kelly Gallery\, 118 Douglas Street\, Glasgow
CATEGORIES:Arts
ATTACH;FMTTYPE=image/jpeg:https://glasgowblythswoodfestival.co.uk/wp-content/uploads/2025/03/RGI1-Glasgow_Institute_Of_The_Fine_Arts.jpg
END:VEVENT
BEGIN:VEVENT
DTSTART;TZID=Europe/London:20260511T100000
DTEND;TZID=Europe/London:20260511T170000
DTSTAMP:20260424T172656
CREATED:20260308T204956Z
LAST-MODIFIED:20260317T114156Z
UID:10000531-1778493600-1778518800@glasgowblythswoodfestival.co.uk
SUMMARY:Exhibition: ‘Music\, Mackintosh & Murder’ 
DESCRIPTION:RGI Kelly Gallery \n\n\n\nSet in its modern Kelly Gallery near Blythswood Square\, the Royal Glasgow Institute of the Fine Arts hosts a special exhibition.  Inspired by the legacy of Charles Rennie Mackintosh\, Glasgow’s vibrant music scene and its popular crime stories\, the gallery will host new work by current RGI members and entertain the viewers with the deadly mix of culture and crime that Glaswegians love. \n\n\n\nThe contemporary art scene in Glasgow is known for its experimental energy and strong community of artists. While much of the work is forward-looking and conceptual\, the influence of Charles Rennie Mackintosh continues in the city’s creative identity. Institutions such as the Glasgow School of Art have helped shape generations of artists\, linking Mackintosh’s elegant design legacy with today’s bold\, contemporary practices. Our music scene is raw\, energetic and constantly evolving.  \n\n\n\nGlasgow crime writer Alex Grey officially opens the exhibition on the 2nd of May. \n\n\n\nExhibition continuing to 13 June. \n\n\n\nFree entry
URL:https://glasgowblythswoodfestival.co.uk/event/exhibition-music-mackintosh-murder/2026-05-11/
LOCATION:RGI Kelly Gallery\, 118 Douglas Street\, Glasgow
CATEGORIES:Arts
ATTACH;FMTTYPE=image/jpeg:https://glasgowblythswoodfestival.co.uk/wp-content/uploads/2025/03/RGI1-Glasgow_Institute_Of_The_Fine_Arts.jpg
END:VEVENT
BEGIN:VEVENT
DTSTART;TZID=Europe/London:20260512T100000
DTEND;TZID=Europe/London:20260512T170000
DTSTAMP:20260424T172656
CREATED:20260308T204956Z
LAST-MODIFIED:20260317T114156Z
UID:10000532-1778580000-1778605200@glasgowblythswoodfestival.co.uk
SUMMARY:Exhibition: ‘Music\, Mackintosh & Murder’ 
DESCRIPTION:RGI Kelly Gallery \n\n\n\nSet in its modern Kelly Gallery near Blythswood Square\, the Royal Glasgow Institute of the Fine Arts hosts a special exhibition.  Inspired by the legacy of Charles Rennie Mackintosh\, Glasgow’s vibrant music scene and its popular crime stories\, the gallery will host new work by current RGI members and entertain the viewers with the deadly mix of culture and crime that Glaswegians love. \n\n\n\nThe contemporary art scene in Glasgow is known for its experimental energy and strong community of artists. While much of the work is forward-looking and conceptual\, the influence of Charles Rennie Mackintosh continues in the city’s creative identity. Institutions such as the Glasgow School of Art have helped shape generations of artists\, linking Mackintosh’s elegant design legacy with today’s bold\, contemporary practices. Our music scene is raw\, energetic and constantly evolving.  \n\n\n\nGlasgow crime writer Alex Grey officially opens the exhibition on the 2nd of May. \n\n\n\nExhibition continuing to 13 June. \n\n\n\nFree entry
URL:https://glasgowblythswoodfestival.co.uk/event/exhibition-music-mackintosh-murder/2026-05-12/
LOCATION:RGI Kelly Gallery\, 118 Douglas Street\, Glasgow
CATEGORIES:Arts
ATTACH;FMTTYPE=image/jpeg:https://glasgowblythswoodfestival.co.uk/wp-content/uploads/2025/03/RGI1-Glasgow_Institute_Of_The_Fine_Arts.jpg
END:VEVENT
BEGIN:VEVENT
DTSTART;TZID=Europe/London:20260513T100000
DTEND;TZID=Europe/London:20260513T170000
DTSTAMP:20260424T172656
CREATED:20260308T204956Z
LAST-MODIFIED:20260317T114156Z
UID:10000533-1778666400-1778691600@glasgowblythswoodfestival.co.uk
SUMMARY:Exhibition: ‘Music\, Mackintosh & Murder’ 
DESCRIPTION:RGI Kelly Gallery \n\n\n\nSet in its modern Kelly Gallery near Blythswood Square\, the Royal Glasgow Institute of the Fine Arts hosts a special exhibition.  Inspired by the legacy of Charles Rennie Mackintosh\, Glasgow’s vibrant music scene and its popular crime stories\, the gallery will host new work by current RGI members and entertain the viewers with the deadly mix of culture and crime that Glaswegians love. \n\n\n\nThe contemporary art scene in Glasgow is known for its experimental energy and strong community of artists. While much of the work is forward-looking and conceptual\, the influence of Charles Rennie Mackintosh continues in the city’s creative identity. Institutions such as the Glasgow School of Art have helped shape generations of artists\, linking Mackintosh’s elegant design legacy with today’s bold\, contemporary practices. Our music scene is raw\, energetic and constantly evolving.  \n\n\n\nGlasgow crime writer Alex Grey officially opens the exhibition on the 2nd of May. \n\n\n\nExhibition continuing to 13 June. \n\n\n\nFree entry
URL:https://glasgowblythswoodfestival.co.uk/event/exhibition-music-mackintosh-murder/2026-05-13/
LOCATION:RGI Kelly Gallery\, 118 Douglas Street\, Glasgow
CATEGORIES:Arts
ATTACH;FMTTYPE=image/jpeg:https://glasgowblythswoodfestival.co.uk/wp-content/uploads/2025/03/RGI1-Glasgow_Institute_Of_The_Fine_Arts.jpg
END:VEVENT
BEGIN:VEVENT
DTSTART;TZID=Europe/London:20260516T120000
DTEND;TZID=Europe/London:20260516T160000
DTSTAMP:20260424T172656
CREATED:20260308T204956Z
LAST-MODIFIED:20260317T114156Z
UID:10000534-1778932800-1778947200@glasgowblythswoodfestival.co.uk
SUMMARY:Exhibition: ‘Music\, Mackintosh & Murder’ 
DESCRIPTION:RGI Kelly Gallery \n\n\n\nSet in its modern Kelly Gallery near Blythswood Square\, the Royal Glasgow Institute of the Fine Arts hosts a special exhibition.  Inspired by the legacy of Charles Rennie Mackintosh\, Glasgow’s vibrant music scene and its popular crime stories\, the gallery will host new work by current RGI members and entertain the viewers with the deadly mix of culture and crime that Glaswegians love. \n\n\n\nThe contemporary art scene in Glasgow is known for its experimental energy and strong community of artists. While much of the work is forward-looking and conceptual\, the influence of Charles Rennie Mackintosh continues in the city’s creative identity. Institutions such as the Glasgow School of Art have helped shape generations of artists\, linking Mackintosh’s elegant design legacy with today’s bold\, contemporary practices. Our music scene is raw\, energetic and constantly evolving.  \n\n\n\nGlasgow crime writer Alex Grey officially opens the exhibition on the 2nd of May. \n\n\n\nExhibition continuing to 13 June. \n\n\n\nFree entry
URL:https://glasgowblythswoodfestival.co.uk/event/exhibition-music-mackintosh-murder/2026-05-16/
LOCATION:RGI Kelly Gallery\, 118 Douglas Street\, Glasgow
CATEGORIES:Arts
ATTACH;FMTTYPE=image/jpeg:https://glasgowblythswoodfestival.co.uk/wp-content/uploads/2025/03/RGI1-Glasgow_Institute_Of_The_Fine_Arts.jpg
END:VEVENT
END:VCALENDAR