BEGIN:VCALENDAR
VERSION:2.0
PRODID:-//Glasgow Blythswood Festival - ECPv6.10.0//NONSGML v1.0//EN
CALSCALE:GREGORIAN
METHOD:PUBLISH
X-WR-CALNAME:Glasgow Blythswood Festival
X-ORIGINAL-URL:https://glasgowblythswoodfestival.co.uk
X-WR-CALDESC:Events for Glasgow Blythswood Festival
REFRESH-INTERVAL;VALUE=DURATION:PT1H
X-Robots-Tag:noindex
X-PUBLISHED-TTL:PT1H
BEGIN:VTIMEZONE
TZID:Europe/London
BEGIN:DAYLIGHT
TZOFFSETFROM:+0000
TZOFFSETTO:+0100
TZNAME:BST
DTSTART:20260329T010000
END:DAYLIGHT
BEGIN:STANDARD
TZOFFSETFROM:+0100
TZOFFSETTO:+0000
TZNAME:GMT
DTSTART:20261025T010000
END:STANDARD
END:VTIMEZONE
BEGIN:VEVENT
DTSTART;TZID=Europe/London:20260501T100000
DTEND;TZID=Europe/London:20260501T170000
DTSTAMP:20260424T142100
CREATED:20260306T184130Z
LAST-MODIFIED:20260309T112906Z
UID:10000490-1777629600-1777654800@glasgowblythswoodfestival.co.uk
SUMMARY:Compass Gallery
DESCRIPTION:Compass Gallery\, 178 West Regent Street \n\n\n\nFor 57 years\, Glasgow’s Compass Gallery has been the foremost contemporary gallery in the West of Scotland. Its role as principal talent spotter of new young Scottish based painters is widely recognised. The gallery also regularly shows the more established artists who see the need to be identified with a progressive and responsive gallery later in their careers. Compass Gallery’s interests are not confined to Scottish based artists\, in fact\, it is an important part of its policy to bring some of the more prominent and influential British artists to Glasgow. \n\n\n\nA not-for-profit charity\, it is renowned for its support of emerging new talent and presents monthly changing exhibitions throughout the year. Works on show include Anna H. Geerdes\, Peter Howson\, Shona Kinloch\, Jack Knox\, Bet Low\, Neil MacPherson\, Iona Roberts\, Andy Scott\, Adrian Wiszniewski\, Alma Wolfson\, New Generation artists from the 4 Scottish Art Schools and many others. \n\n\n\nA Mixed Exhibition will run during May. \n\n\n\nFree admission.
URL:https://glasgowblythswoodfestival.co.uk/event/compass-gallery/2026-05-01/
LOCATION:Compass Gallery\, 178 West Regent Street\, Glasgow\, G2 4RL\, United Kingdom
CATEGORIES:Arts
ATTACH;FMTTYPE=image/jpeg:https://glasgowblythswoodfestival.co.uk/wp-content/uploads/2026/03/COM-compass-composite.jpg
END:VEVENT
BEGIN:VEVENT
DTSTART;TZID=Europe/London:20260502T110000
DTEND;TZID=Europe/London:20260502T160000
DTSTAMP:20260424T142100
CREATED:20260306T184130Z
LAST-MODIFIED:20260309T112906Z
UID:10000491-1777719600-1777737600@glasgowblythswoodfestival.co.uk
SUMMARY:Compass Gallery
DESCRIPTION:Compass Gallery\, 178 West Regent Street \n\n\n\nFor 57 years\, Glasgow’s Compass Gallery has been the foremost contemporary gallery in the West of Scotland. Its role as principal talent spotter of new young Scottish based painters is widely recognised. The gallery also regularly shows the more established artists who see the need to be identified with a progressive and responsive gallery later in their careers. Compass Gallery’s interests are not confined to Scottish based artists\, in fact\, it is an important part of its policy to bring some of the more prominent and influential British artists to Glasgow. \n\n\n\nA not-for-profit charity\, it is renowned for its support of emerging new talent and presents monthly changing exhibitions throughout the year. Works on show include Anna H. Geerdes\, Peter Howson\, Shona Kinloch\, Jack Knox\, Bet Low\, Neil MacPherson\, Iona Roberts\, Andy Scott\, Adrian Wiszniewski\, Alma Wolfson\, New Generation artists from the 4 Scottish Art Schools and many others. \n\n\n\nA Mixed Exhibition will run during May. \n\n\n\nFree admission.
URL:https://glasgowblythswoodfestival.co.uk/event/compass-gallery/2026-05-02/
LOCATION:Compass Gallery\, 178 West Regent Street\, Glasgow\, G2 4RL\, United Kingdom
CATEGORIES:Arts
ATTACH;FMTTYPE=image/jpeg:https://glasgowblythswoodfestival.co.uk/wp-content/uploads/2026/03/COM-compass-composite.jpg
END:VEVENT
BEGIN:VEVENT
DTSTART;TZID=Europe/London:20260505T100000
DTEND;TZID=Europe/London:20260505T170000
DTSTAMP:20260424T142100
CREATED:20260306T184130Z
LAST-MODIFIED:20260309T112906Z
UID:10000492-1777975200-1778000400@glasgowblythswoodfestival.co.uk
SUMMARY:Compass Gallery
DESCRIPTION:Compass Gallery\, 178 West Regent Street \n\n\n\nFor 57 years\, Glasgow’s Compass Gallery has been the foremost contemporary gallery in the West of Scotland. Its role as principal talent spotter of new young Scottish based painters is widely recognised. The gallery also regularly shows the more established artists who see the need to be identified with a progressive and responsive gallery later in their careers. Compass Gallery’s interests are not confined to Scottish based artists\, in fact\, it is an important part of its policy to bring some of the more prominent and influential British artists to Glasgow. \n\n\n\nA not-for-profit charity\, it is renowned for its support of emerging new talent and presents monthly changing exhibitions throughout the year. Works on show include Anna H. Geerdes\, Peter Howson\, Shona Kinloch\, Jack Knox\, Bet Low\, Neil MacPherson\, Iona Roberts\, Andy Scott\, Adrian Wiszniewski\, Alma Wolfson\, New Generation artists from the 4 Scottish Art Schools and many others. \n\n\n\nA Mixed Exhibition will run during May. \n\n\n\nFree admission.
URL:https://glasgowblythswoodfestival.co.uk/event/compass-gallery/2026-05-05/
LOCATION:Compass Gallery\, 178 West Regent Street\, Glasgow\, G2 4RL\, United Kingdom
CATEGORIES:Arts
ATTACH;FMTTYPE=image/jpeg:https://glasgowblythswoodfestival.co.uk/wp-content/uploads/2026/03/COM-compass-composite.jpg
END:VEVENT
BEGIN:VEVENT
DTSTART;TZID=Europe/London:20260506T100000
DTEND;TZID=Europe/London:20260506T170000
DTSTAMP:20260424T142100
CREATED:20260306T184130Z
LAST-MODIFIED:20260309T112906Z
UID:10000493-1778061600-1778086800@glasgowblythswoodfestival.co.uk
SUMMARY:Compass Gallery
DESCRIPTION:Compass Gallery\, 178 West Regent Street \n\n\n\nFor 57 years\, Glasgow’s Compass Gallery has been the foremost contemporary gallery in the West of Scotland. Its role as principal talent spotter of new young Scottish based painters is widely recognised. The gallery also regularly shows the more established artists who see the need to be identified with a progressive and responsive gallery later in their careers. Compass Gallery’s interests are not confined to Scottish based artists\, in fact\, it is an important part of its policy to bring some of the more prominent and influential British artists to Glasgow. \n\n\n\nA not-for-profit charity\, it is renowned for its support of emerging new talent and presents monthly changing exhibitions throughout the year. Works on show include Anna H. Geerdes\, Peter Howson\, Shona Kinloch\, Jack Knox\, Bet Low\, Neil MacPherson\, Iona Roberts\, Andy Scott\, Adrian Wiszniewski\, Alma Wolfson\, New Generation artists from the 4 Scottish Art Schools and many others. \n\n\n\nA Mixed Exhibition will run during May. \n\n\n\nFree admission.
URL:https://glasgowblythswoodfestival.co.uk/event/compass-gallery/2026-05-06/
LOCATION:Compass Gallery\, 178 West Regent Street\, Glasgow\, G2 4RL\, United Kingdom
CATEGORIES:Arts
ATTACH;FMTTYPE=image/jpeg:https://glasgowblythswoodfestival.co.uk/wp-content/uploads/2026/03/COM-compass-composite.jpg
END:VEVENT
BEGIN:VEVENT
DTSTART;TZID=Europe/London:20260507T100000
DTEND;TZID=Europe/London:20260507T170000
DTSTAMP:20260424T142100
CREATED:20260306T184130Z
LAST-MODIFIED:20260309T112906Z
UID:10000494-1778148000-1778173200@glasgowblythswoodfestival.co.uk
SUMMARY:Compass Gallery
DESCRIPTION:Compass Gallery\, 178 West Regent Street \n\n\n\nFor 57 years\, Glasgow’s Compass Gallery has been the foremost contemporary gallery in the West of Scotland. Its role as principal talent spotter of new young Scottish based painters is widely recognised. The gallery also regularly shows the more established artists who see the need to be identified with a progressive and responsive gallery later in their careers. Compass Gallery’s interests are not confined to Scottish based artists\, in fact\, it is an important part of its policy to bring some of the more prominent and influential British artists to Glasgow. \n\n\n\nA not-for-profit charity\, it is renowned for its support of emerging new talent and presents monthly changing exhibitions throughout the year. Works on show include Anna H. Geerdes\, Peter Howson\, Shona Kinloch\, Jack Knox\, Bet Low\, Neil MacPherson\, Iona Roberts\, Andy Scott\, Adrian Wiszniewski\, Alma Wolfson\, New Generation artists from the 4 Scottish Art Schools and many others. \n\n\n\nA Mixed Exhibition will run during May. \n\n\n\nFree admission.
URL:https://glasgowblythswoodfestival.co.uk/event/compass-gallery/2026-05-07/
LOCATION:Compass Gallery\, 178 West Regent Street\, Glasgow\, G2 4RL\, United Kingdom
CATEGORIES:Arts
ATTACH;FMTTYPE=image/jpeg:https://glasgowblythswoodfestival.co.uk/wp-content/uploads/2026/03/COM-compass-composite.jpg
END:VEVENT
BEGIN:VEVENT
DTSTART;TZID=Europe/London:20260508T100000
DTEND;TZID=Europe/London:20260508T170000
DTSTAMP:20260424T142100
CREATED:20260306T184130Z
LAST-MODIFIED:20260309T112906Z
UID:10000495-1778234400-1778259600@glasgowblythswoodfestival.co.uk
SUMMARY:Compass Gallery
DESCRIPTION:Compass Gallery\, 178 West Regent Street \n\n\n\nFor 57 years\, Glasgow’s Compass Gallery has been the foremost contemporary gallery in the West of Scotland. Its role as principal talent spotter of new young Scottish based painters is widely recognised. The gallery also regularly shows the more established artists who see the need to be identified with a progressive and responsive gallery later in their careers. Compass Gallery’s interests are not confined to Scottish based artists\, in fact\, it is an important part of its policy to bring some of the more prominent and influential British artists to Glasgow. \n\n\n\nA not-for-profit charity\, it is renowned for its support of emerging new talent and presents monthly changing exhibitions throughout the year. Works on show include Anna H. Geerdes\, Peter Howson\, Shona Kinloch\, Jack Knox\, Bet Low\, Neil MacPherson\, Iona Roberts\, Andy Scott\, Adrian Wiszniewski\, Alma Wolfson\, New Generation artists from the 4 Scottish Art Schools and many others. \n\n\n\nA Mixed Exhibition will run during May. \n\n\n\nFree admission.
URL:https://glasgowblythswoodfestival.co.uk/event/compass-gallery/2026-05-08/
LOCATION:Compass Gallery\, 178 West Regent Street\, Glasgow\, G2 4RL\, United Kingdom
CATEGORIES:Arts
ATTACH;FMTTYPE=image/jpeg:https://glasgowblythswoodfestival.co.uk/wp-content/uploads/2026/03/COM-compass-composite.jpg
END:VEVENT
BEGIN:VEVENT
DTSTART;TZID=Europe/London:20260509T110000
DTEND;TZID=Europe/London:20260509T160000
DTSTAMP:20260424T142100
CREATED:20260306T184130Z
LAST-MODIFIED:20260309T112906Z
UID:10000496-1778324400-1778342400@glasgowblythswoodfestival.co.uk
SUMMARY:Compass Gallery
DESCRIPTION:Compass Gallery\, 178 West Regent Street \n\n\n\nFor 57 years\, Glasgow’s Compass Gallery has been the foremost contemporary gallery in the West of Scotland. Its role as principal talent spotter of new young Scottish based painters is widely recognised. The gallery also regularly shows the more established artists who see the need to be identified with a progressive and responsive gallery later in their careers. Compass Gallery’s interests are not confined to Scottish based artists\, in fact\, it is an important part of its policy to bring some of the more prominent and influential British artists to Glasgow. \n\n\n\nA not-for-profit charity\, it is renowned for its support of emerging new talent and presents monthly changing exhibitions throughout the year. Works on show include Anna H. Geerdes\, Peter Howson\, Shona Kinloch\, Jack Knox\, Bet Low\, Neil MacPherson\, Iona Roberts\, Andy Scott\, Adrian Wiszniewski\, Alma Wolfson\, New Generation artists from the 4 Scottish Art Schools and many others. \n\n\n\nA Mixed Exhibition will run during May. \n\n\n\nFree admission.
URL:https://glasgowblythswoodfestival.co.uk/event/compass-gallery/2026-05-09/
LOCATION:Compass Gallery\, 178 West Regent Street\, Glasgow\, G2 4RL\, United Kingdom
CATEGORIES:Arts
ATTACH;FMTTYPE=image/jpeg:https://glasgowblythswoodfestival.co.uk/wp-content/uploads/2026/03/COM-compass-composite.jpg
END:VEVENT
BEGIN:VEVENT
DTSTART;TZID=Europe/London:20260512T100000
DTEND;TZID=Europe/London:20260512T170000
DTSTAMP:20260424T142100
CREATED:20260306T184130Z
LAST-MODIFIED:20260309T112906Z
UID:10000497-1778580000-1778605200@glasgowblythswoodfestival.co.uk
SUMMARY:Compass Gallery
DESCRIPTION:Compass Gallery\, 178 West Regent Street \n\n\n\nFor 57 years\, Glasgow’s Compass Gallery has been the foremost contemporary gallery in the West of Scotland. Its role as principal talent spotter of new young Scottish based painters is widely recognised. The gallery also regularly shows the more established artists who see the need to be identified with a progressive and responsive gallery later in their careers. Compass Gallery’s interests are not confined to Scottish based artists\, in fact\, it is an important part of its policy to bring some of the more prominent and influential British artists to Glasgow. \n\n\n\nA not-for-profit charity\, it is renowned for its support of emerging new talent and presents monthly changing exhibitions throughout the year. Works on show include Anna H. Geerdes\, Peter Howson\, Shona Kinloch\, Jack Knox\, Bet Low\, Neil MacPherson\, Iona Roberts\, Andy Scott\, Adrian Wiszniewski\, Alma Wolfson\, New Generation artists from the 4 Scottish Art Schools and many others. \n\n\n\nA Mixed Exhibition will run during May. \n\n\n\nFree admission.
URL:https://glasgowblythswoodfestival.co.uk/event/compass-gallery/2026-05-12/
LOCATION:Compass Gallery\, 178 West Regent Street\, Glasgow\, G2 4RL\, United Kingdom
CATEGORIES:Arts
ATTACH;FMTTYPE=image/jpeg:https://glasgowblythswoodfestival.co.uk/wp-content/uploads/2026/03/COM-compass-composite.jpg
END:VEVENT
BEGIN:VEVENT
DTSTART;TZID=Europe/London:20260513T100000
DTEND;TZID=Europe/London:20260513T170000
DTSTAMP:20260424T142100
CREATED:20260306T184130Z
LAST-MODIFIED:20260309T112906Z
UID:10000498-1778666400-1778691600@glasgowblythswoodfestival.co.uk
SUMMARY:Compass Gallery
DESCRIPTION:Compass Gallery\, 178 West Regent Street \n\n\n\nFor 57 years\, Glasgow’s Compass Gallery has been the foremost contemporary gallery in the West of Scotland. Its role as principal talent spotter of new young Scottish based painters is widely recognised. The gallery also regularly shows the more established artists who see the need to be identified with a progressive and responsive gallery later in their careers. Compass Gallery’s interests are not confined to Scottish based artists\, in fact\, it is an important part of its policy to bring some of the more prominent and influential British artists to Glasgow. \n\n\n\nA not-for-profit charity\, it is renowned for its support of emerging new talent and presents monthly changing exhibitions throughout the year. Works on show include Anna H. Geerdes\, Peter Howson\, Shona Kinloch\, Jack Knox\, Bet Low\, Neil MacPherson\, Iona Roberts\, Andy Scott\, Adrian Wiszniewski\, Alma Wolfson\, New Generation artists from the 4 Scottish Art Schools and many others. \n\n\n\nA Mixed Exhibition will run during May. \n\n\n\nFree admission.
URL:https://glasgowblythswoodfestival.co.uk/event/compass-gallery/2026-05-13/
LOCATION:Compass Gallery\, 178 West Regent Street\, Glasgow\, G2 4RL\, United Kingdom
CATEGORIES:Arts
ATTACH;FMTTYPE=image/jpeg:https://glasgowblythswoodfestival.co.uk/wp-content/uploads/2026/03/COM-compass-composite.jpg
END:VEVENT
BEGIN:VEVENT
DTSTART;TZID=Europe/London:20260514T100000
DTEND;TZID=Europe/London:20260514T170000
DTSTAMP:20260424T142100
CREATED:20260306T184130Z
LAST-MODIFIED:20260309T112906Z
UID:10000499-1778752800-1778778000@glasgowblythswoodfestival.co.uk
SUMMARY:Compass Gallery
DESCRIPTION:Compass Gallery\, 178 West Regent Street \n\n\n\nFor 57 years\, Glasgow’s Compass Gallery has been the foremost contemporary gallery in the West of Scotland. Its role as principal talent spotter of new young Scottish based painters is widely recognised. The gallery also regularly shows the more established artists who see the need to be identified with a progressive and responsive gallery later in their careers. Compass Gallery’s interests are not confined to Scottish based artists\, in fact\, it is an important part of its policy to bring some of the more prominent and influential British artists to Glasgow. \n\n\n\nA not-for-profit charity\, it is renowned for its support of emerging new talent and presents monthly changing exhibitions throughout the year. Works on show include Anna H. Geerdes\, Peter Howson\, Shona Kinloch\, Jack Knox\, Bet Low\, Neil MacPherson\, Iona Roberts\, Andy Scott\, Adrian Wiszniewski\, Alma Wolfson\, New Generation artists from the 4 Scottish Art Schools and many others. \n\n\n\nA Mixed Exhibition will run during May. \n\n\n\nFree admission.
URL:https://glasgowblythswoodfestival.co.uk/event/compass-gallery/2026-05-14/
LOCATION:Compass Gallery\, 178 West Regent Street\, Glasgow\, G2 4RL\, United Kingdom
CATEGORIES:Arts
ATTACH;FMTTYPE=image/jpeg:https://glasgowblythswoodfestival.co.uk/wp-content/uploads/2026/03/COM-compass-composite.jpg
END:VEVENT
BEGIN:VEVENT
DTSTART;TZID=Europe/London:20260515T100000
DTEND;TZID=Europe/London:20260515T170000
DTSTAMP:20260424T142100
CREATED:20260306T184130Z
LAST-MODIFIED:20260309T112906Z
UID:10000500-1778839200-1778864400@glasgowblythswoodfestival.co.uk
SUMMARY:Compass Gallery
DESCRIPTION:Compass Gallery\, 178 West Regent Street \n\n\n\nFor 57 years\, Glasgow’s Compass Gallery has been the foremost contemporary gallery in the West of Scotland. Its role as principal talent spotter of new young Scottish based painters is widely recognised. The gallery also regularly shows the more established artists who see the need to be identified with a progressive and responsive gallery later in their careers. Compass Gallery’s interests are not confined to Scottish based artists\, in fact\, it is an important part of its policy to bring some of the more prominent and influential British artists to Glasgow. \n\n\n\nA not-for-profit charity\, it is renowned for its support of emerging new talent and presents monthly changing exhibitions throughout the year. Works on show include Anna H. Geerdes\, Peter Howson\, Shona Kinloch\, Jack Knox\, Bet Low\, Neil MacPherson\, Iona Roberts\, Andy Scott\, Adrian Wiszniewski\, Alma Wolfson\, New Generation artists from the 4 Scottish Art Schools and many others. \n\n\n\nA Mixed Exhibition will run during May. \n\n\n\nFree admission.
URL:https://glasgowblythswoodfestival.co.uk/event/compass-gallery/2026-05-15/
LOCATION:Compass Gallery\, 178 West Regent Street\, Glasgow\, G2 4RL\, United Kingdom
CATEGORIES:Arts
ATTACH;FMTTYPE=image/jpeg:https://glasgowblythswoodfestival.co.uk/wp-content/uploads/2026/03/COM-compass-composite.jpg
END:VEVENT
BEGIN:VEVENT
DTSTART;TZID=Europe/London:20260516T110000
DTEND;TZID=Europe/London:20260516T160000
DTSTAMP:20260424T142100
CREATED:20260306T184130Z
LAST-MODIFIED:20260309T112906Z
UID:10000501-1778929200-1778947200@glasgowblythswoodfestival.co.uk
SUMMARY:Compass Gallery
DESCRIPTION:Compass Gallery\, 178 West Regent Street \n\n\n\nFor 57 years\, Glasgow’s Compass Gallery has been the foremost contemporary gallery in the West of Scotland. Its role as principal talent spotter of new young Scottish based painters is widely recognised. The gallery also regularly shows the more established artists who see the need to be identified with a progressive and responsive gallery later in their careers. Compass Gallery’s interests are not confined to Scottish based artists\, in fact\, it is an important part of its policy to bring some of the more prominent and influential British artists to Glasgow. \n\n\n\nA not-for-profit charity\, it is renowned for its support of emerging new talent and presents monthly changing exhibitions throughout the year. Works on show include Anna H. Geerdes\, Peter Howson\, Shona Kinloch\, Jack Knox\, Bet Low\, Neil MacPherson\, Iona Roberts\, Andy Scott\, Adrian Wiszniewski\, Alma Wolfson\, New Generation artists from the 4 Scottish Art Schools and many others. \n\n\n\nA Mixed Exhibition will run during May. \n\n\n\nFree admission.
URL:https://glasgowblythswoodfestival.co.uk/event/compass-gallery/2026-05-16/
LOCATION:Compass Gallery\, 178 West Regent Street\, Glasgow\, G2 4RL\, United Kingdom
CATEGORIES:Arts
ATTACH;FMTTYPE=image/jpeg:https://glasgowblythswoodfestival.co.uk/wp-content/uploads/2026/03/COM-compass-composite.jpg
END:VEVENT
END:VCALENDAR