BEGIN:VCALENDAR
VERSION:2.0
PRODID:-//Glasgow Blythswood Festival - ECPv6.10.0//NONSGML v1.0//EN
CALSCALE:GREGORIAN
METHOD:PUBLISH
X-ORIGINAL-URL:https://glasgowblythswoodfestival.co.uk
X-WR-CALDESC:Events for Glasgow Blythswood Festival
REFRESH-INTERVAL;VALUE=DURATION:PT1H
X-Robots-Tag:noindex
X-PUBLISHED-TTL:PT1H
BEGIN:VTIMEZONE
TZID:Europe/London
BEGIN:DAYLIGHT
TZOFFSETFROM:+0000
TZOFFSETTO:+0100
TZNAME:BST
DTSTART:20260329T010000
END:DAYLIGHT
BEGIN:STANDARD
TZOFFSETFROM:+0100
TZOFFSETTO:+0000
TZNAME:GMT
DTSTART:20261025T010000
END:STANDARD
END:VTIMEZONE
BEGIN:VEVENT
DTSTART;TZID=Europe/London:20260504T100000
DTEND;TZID=Europe/London:20260504T170000
DTSTAMP:20260424T185818
CREATED:20260308T204956Z
LAST-MODIFIED:20260317T114156Z
UID:10000527-1777888800-1777914000@glasgowblythswoodfestival.co.uk
SUMMARY:Exhibition: ‘Music\, Mackintosh & Murder’ 
DESCRIPTION:RGI Kelly Gallery \n\n\n\nSet in its modern Kelly Gallery near Blythswood Square\, the Royal Glasgow Institute of the Fine Arts hosts a special exhibition.  Inspired by the legacy of Charles Rennie Mackintosh\, Glasgow’s vibrant music scene and its popular crime stories\, the gallery will host new work by current RGI members and entertain the viewers with the deadly mix of culture and crime that Glaswegians love. \n\n\n\nThe contemporary art scene in Glasgow is known for its experimental energy and strong community of artists. While much of the work is forward-looking and conceptual\, the influence of Charles Rennie Mackintosh continues in the city’s creative identity. Institutions such as the Glasgow School of Art have helped shape generations of artists\, linking Mackintosh’s elegant design legacy with today’s bold\, contemporary practices. Our music scene is raw\, energetic and constantly evolving.  \n\n\n\nGlasgow crime writer Alex Grey officially opens the exhibition on the 2nd of May. \n\n\n\nExhibition continuing to 13 June. \n\n\n\nFree entry
URL:https://glasgowblythswoodfestival.co.uk/event/exhibition-music-mackintosh-murder/2026-05-04/
LOCATION:RGI Kelly Gallery\, 118 Douglas Street\, Glasgow
CATEGORIES:Arts
ATTACH;FMTTYPE=image/jpeg:https://glasgowblythswoodfestival.co.uk/wp-content/uploads/2025/03/RGI1-Glasgow_Institute_Of_The_Fine_Arts.jpg
END:VEVENT
BEGIN:VEVENT
DTSTART;TZID=Europe/London:20260504T100000
DTEND;TZID=Europe/London:20260504T190000
DTSTAMP:20260424T185818
CREATED:20260303T214430Z
LAST-MODIFIED:20260420T215816Z
UID:10000448-1777888800-1777921200@glasgowblythswoodfestival.co.uk
SUMMARY:Paisley Art Institute 137th Annual Open Exhibition
DESCRIPTION:Glasgow Art Club\, 185 Bath Street \n\n\n\nIn its 150th Anniversary Year\, Paisley Art Institute supports and promotes art in its prize-winning 137th Annual Exhibition. With over 500 quality artworks – paintings\, prints\, drawings and sculpture – by 240 talented artists. \n\n\n\nEnjoy the Institute’s home-base in the unique Glasgow Art Club and renowned main gallery with features designed by Charles Rennie Mackintosh. Witness the very best of Scottish creativity all in one vibrant and inspiring space. \n\n\n\nWatch painting demonstrations each week by invited artists. Enjoy also treasures of the Paisley Art Institute’s heritage collection throughout the building. \n\n\n\nOpen Mondays to Saturdays\, 10am to 7pm (excluding Holiday Monday 4th) \n\n\n\nFull catalogue available.  \n\n\n\nFree entry. Refreshments and food available. \n\n\n\nRunning from Saturday 25th April to Saturday 23rd May.
URL:https://glasgowblythswoodfestival.co.uk/event/paisley-art-institute-137th-annual-open-exhibition/2026-05-04/
LOCATION:Glasgow Art Club\, 185 Bath Street\, Glasgow\, G2 4HU\, United Kingdom
CATEGORIES:Arts
ATTACH;FMTTYPE=image/jpeg:https://glasgowblythswoodfestival.co.uk/wp-content/uploads/2026/03/GAC-Glasgow_Art_Club-150-exterior-logo3PAI-M3B2260x-3-1-scaled.jpg
END:VEVENT
BEGIN:VEVENT
DTSTART;TZID=Europe/London:20260504T120000
DTEND;TZID=Europe/London:20260504T220000
DTSTAMP:20260424T185818
CREATED:20260307T130535Z
LAST-MODIFIED:20260309T112732Z
UID:10000509-1777896000-1777932000@glasgowblythswoodfestival.co.uk
SUMMARY:Glasgow Film Theatre
DESCRIPTION:Glasgow Film Theatre\, 12 Rose Street \n\n\n\nThe art-deco Glasgow Film Theatre in Rose Street just off Sauchiehall Street\, built in 1939 as the Cosmo\,  has been leading the way in art cinema for decades. The three screens show 100% specialised titles\, first run world and independent cinema\, artists’ experimental work\,  rarely screened classics and undiscovered gems from countries all around the world\,  thematic seasons\, repertory programmes\, Scottish produced work\, festivals\, and a programme of event cinema and live broadcast. \n\n\n\nGFT is an educational charity\, a hub of activity where children\, families\, and young people learn about film\, communities come together\, and filmmakers of the future develop their careers.  \n\n\n\nOpen seven days a week from 12 noon.   \n\n\n\nFor daily opening times and listings go to   https://www.glasgowfilm.org/home
URL:https://glasgowblythswoodfestival.co.uk/event/glasgow-film-theatre/2026-05-04/
LOCATION:Glasgow Film Theatre\, 12 Rose Street\, Glasgow\, G3 6RB\, United Kingdom
CATEGORIES:Arts
ATTACH;FMTTYPE=image/jpeg:https://glasgowblythswoodfestival.co.uk/wp-content/uploads/2026/03/GFT-MB_Dapple_GFT_16x9-1-scaled.jpg
END:VEVENT
END:VCALENDAR