BEGIN:VCALENDAR
VERSION:2.0
PRODID:-//Glasgow Blythswood Festival - ECPv6.10.0//NONSGML v1.0//EN
CALSCALE:GREGORIAN
METHOD:PUBLISH
X-WR-CALNAME:Glasgow Blythswood Festival
X-ORIGINAL-URL:https://glasgowblythswoodfestival.co.uk
X-WR-CALDESC:Events for Glasgow Blythswood Festival
REFRESH-INTERVAL;VALUE=DURATION:PT1H
X-Robots-Tag:noindex
X-PUBLISHED-TTL:PT1H
BEGIN:VTIMEZONE
TZID:Europe/London
BEGIN:DAYLIGHT
TZOFFSETFROM:+0000
TZOFFSETTO:+0100
TZNAME:BST
DTSTART:20260329T010000
END:DAYLIGHT
BEGIN:STANDARD
TZOFFSETFROM:+0100
TZOFFSETTO:+0000
TZNAME:GMT
DTSTART:20261025T010000
END:STANDARD
END:VTIMEZONE
BEGIN:VEVENT
DTSTART;TZID=Europe/London:20260501T090000
DTEND;TZID=Europe/London:20260501T160000
DTSTAMP:20260424T170107
CREATED:20260304T201723Z
LAST-MODIFIED:20260309T112455Z
UID:10000477-1777626000-1777651200@glasgowblythswoodfestival.co.uk
SUMMARY:Miss Cranston\, Toshie & Tea
DESCRIPTION:The Mackintosh Tearooms\, 215-217 Sauchiehall Street \n\n\n\nAt leisure\, explore our celebrated Exhibition in the original Willow Tearooms in  Sauchiehall Street and see and learn of the vibrant city of Glasgow in the late 1890s and early 1900s. Times of exciting change and innovation. Learn about the growth of the tea rooms and hear the successful story of entrepreneur Miss Kate Cranston and her creative collaboration with architect Charles Rennie Mackintosh and his wife\, and fellow designer\, Margaret Macdonald. With interactive\, audio and visual displays there’s plenty to get involved with. \n\n\n\nExhibition Entry for just £4.00 per person with Code BLYTH2026 when purchased at the Visitor Centre. \n\n\n\nChildren Under 10 Accompanied by an adult: Free \n\n\n\nSimply drop in to visit the exhibition\, open daily. \n\n\n\nLast entry 4.00 pm. \n\n\n\nFor more information on The Mackintosh Tearooms please visit: \n\n\n\nhttps://www.nts.org.uk/visit/places/the-mackintosh-tearooms
URL:https://glasgowblythswoodfestival.co.uk/event/miss-cranston-toshie-tea/2026-05-01/
LOCATION:The Mackintosh Tearooms\, 215-217 Sauchiehall Street\, Glasgow\, G2 3EX\, United Kingdom
CATEGORIES:Heritage & Tours
ATTACH;FMTTYPE=image/jpeg:https://glasgowblythswoodfestival.co.uk/wp-content/uploads/2026/03/MaTW-5-willow-tearooms-1-scaled.jpg
END:VEVENT
BEGIN:VEVENT
DTSTART;TZID=Europe/London:20260501T090000
DTEND;TZID=Europe/London:20260501T170000
DTSTAMP:20260424T170107
CREATED:20260311T165604Z
LAST-MODIFIED:20260312T102500Z
UID:10000560-1777626000-1777654800@glasgowblythswoodfestival.co.uk
SUMMARY:The National Piping Centre
DESCRIPTION:The National Piping Centre\, at the top of Hope Street \n\n\n\nAn international centre of music and hospitality\, world class tuition and performance. Visit the Museum of Piping at The National Piping Centre to explore 300 years of Scotland’s musical history in our permanent collection\, and try the bagpipes for yourself! \n\n\n\nEnjoy fascinating films on the history\, culture and music of the bagpipe – here and overseas – before trying your hand at playing this iconic Scottish instrument. Stepping through to the Pipers Tryst restaurant provides refreshment and sustenance all day and evening. \n\n\n\nGeneral admission is £5 for self-guided tour. Open Daily \n\n\n\nMonday – Friday 9am – 5pm (last entry 4pm) \n\n\n\nSaturday – Sunday 9am – 3pm (last entry 2pm) \n\n\n\nMeet the Piper Tours  \n\n\n\nDiscover the story behind Scotland’s national instrument with our Meet the Piper tour – a unique experience that brings piping history and tradition to life. Join us just before 12 noon where you will be greeted by a professional piper playing outside the building. Then guided by our piper host\, you’ll explore our Museum of Piping\, learn about the history and culture of the Great Highland Bagpipe. You will then be able to get hands on with the practice chanter to learn a tune and then try the bagpipes all live in this intimate setting. You’ll also have the chance to ask questions and see the instrument up close.A must-do for visitors looking for an authentic taste of Scottish heritage. \n\n\n\nThe Meet the Piper Tour is available on \n\n\n\nFridays and Saturdays 1st & 2nd May\, 8th & 9th May and 15th & 16th May all starting at 12noon.  \n\n\n\nEntry fee is £5 and the tour is included in the entry fee \n\n\n\nNo need to book\, arrive around 10 minutes before the start of the event to get your tickets on the day.  
URL:https://glasgowblythswoodfestival.co.uk/event/the-national-piping-centre/2026-05-01/
LOCATION:The National Piping Centre\, 30-34 McPhater Street\, Glasgow\, G4 6HW\, United Kingdom
CATEGORIES:Heritage & Tours
ATTACH;FMTTYPE=image/jpeg:https://glasgowblythswoodfestival.co.uk/wp-content/uploads/2026/03/NPC-Meet-the-Piper-large-DSC04636edit-scaled.jpg
END:VEVENT
BEGIN:VEVENT
DTSTART;TZID=Europe/London:20260501T100000
DTEND;TZID=Europe/London:20260501T150000
DTSTAMP:20260424T170107
CREATED:20260308T211803Z
LAST-MODIFIED:20260310T133655Z
UID:10000544-1777629600-1777647600@glasgowblythswoodfestival.co.uk
SUMMARY:Royal Highland Fusiliers Museum
DESCRIPTION:Royal Highland Fusiliers Museum\,  518 Sauchiehall Street\, Charing Cross \n\n\n\nIn the only regimental museum in the West of Scotland\, see over 300 years of regimental life and active duty of today’s Regiment around the globe\, combining Glasgow’s famous Highland Light Infantry and the Royal Scots Fusiliers of Ayrshire and Glasgow\, and their volunteer origins. \n\n\n\nFollow them\, their recruitment\, training and soldiering around the world\, in North America\, continental Europe\, India and Africa in the 18th and 19th centuries. And the world wars of WWI and WWII\, and later campaigns including Malaya\, Iraq and Afghanistan. View rare collections of uniforms\, equipment\,  medals\, maps\,  rations\, letters\, pictures and other memorabilia. \n\n\n\nAmong many themes on display\, witness the  71st and 74th of Foot in the Peninsula Campaign and Waterloo 1807-1815.    \n\n\n\nJoin two Special Events. One  in the Colonel of the Regiments Room\, on the third floor. is on Thursday 7th May: Lunch time talk.   12.30-13.30    Glasgow’s Finest: Stories of the Victoria Cross\, and the other is in the main gallery on Saturday 16th May: Afternoon.   14.00 -15.30    Victoria Cross displays.  \n\n\n\nMore details are on the page for the 7th and for the 16th.   \n\n\n\nGuided tours\, school visits\, family and children’s events can be arranged. \n\n\n\nThe RHF Museum ground floor is on street level\, upper floors access by stairs. \n\n\n\nFree entry\, donations welcome.
URL:https://glasgowblythswoodfestival.co.uk/event/royal-highland-fusiliers-museum/2026-05-01/
LOCATION:Royal Highland Fusiliers Museum\, 518 Sauchiehall Street\, Glasgow
CATEGORIES:Heritage & Tours
ATTACH;FMTTYPE=image/jpeg:https://glasgowblythswoodfestival.co.uk/wp-content/uploads/2026/03/RHF-1-2026-comp1-scaled.jpg
END:VEVENT
BEGIN:VEVENT
DTSTART;TZID=Europe/London:20260501T100000
DTEND;TZID=Europe/London:20260501T170000
DTSTAMP:20260424T170107
CREATED:20260306T184130Z
LAST-MODIFIED:20260309T112906Z
UID:10000490-1777629600-1777654800@glasgowblythswoodfestival.co.uk
SUMMARY:Compass Gallery
DESCRIPTION:Compass Gallery\, 178 West Regent Street \n\n\n\nFor 57 years\, Glasgow’s Compass Gallery has been the foremost contemporary gallery in the West of Scotland. Its role as principal talent spotter of new young Scottish based painters is widely recognised. The gallery also regularly shows the more established artists who see the need to be identified with a progressive and responsive gallery later in their careers. Compass Gallery’s interests are not confined to Scottish based artists\, in fact\, it is an important part of its policy to bring some of the more prominent and influential British artists to Glasgow. \n\n\n\nA not-for-profit charity\, it is renowned for its support of emerging new talent and presents monthly changing exhibitions throughout the year. Works on show include Anna H. Geerdes\, Peter Howson\, Shona Kinloch\, Jack Knox\, Bet Low\, Neil MacPherson\, Iona Roberts\, Andy Scott\, Adrian Wiszniewski\, Alma Wolfson\, New Generation artists from the 4 Scottish Art Schools and many others. \n\n\n\nA Mixed Exhibition will run during May. \n\n\n\nFree admission.
URL:https://glasgowblythswoodfestival.co.uk/event/compass-gallery/2026-05-01/
LOCATION:Compass Gallery\, 178 West Regent Street\, Glasgow\, G2 4RL\, United Kingdom
CATEGORIES:Arts
ATTACH;FMTTYPE=image/jpeg:https://glasgowblythswoodfestival.co.uk/wp-content/uploads/2026/03/COM-compass-composite.jpg
END:VEVENT
BEGIN:VEVENT
DTSTART;TZID=Europe/London:20260501T100000
DTEND;TZID=Europe/London:20260501T170000
DTSTAMP:20260424T170107
CREATED:20260306T184920Z
LAST-MODIFIED:20260309T112325Z
UID:10000478-1777629600-1777654800@glasgowblythswoodfestival.co.uk
SUMMARY:Gerber Fine Art
DESCRIPTION:Gerber Fine Art\, 178 West Regent Street \n\n\n\nEstablished in 1986 this gallery is an intimate Glasgow city centre space for art enthusiasts\, collectors and first-time buyers to browse through an exciting collection of paintings\, drawings\, prints and sculpture by prominent 19th to 21st century British artists\, Glasgow Girls & Boys\, Scottish Masters\, Modern British\, St. Ives School and regular exhibitions of current Contemporary Scottish artists. \n\n\n\nWorks on show include Elizabeth Blackadder\, William Crosbie\, Joan Eardley\, JD Fergusson\, John Houston\, James Kay\, Jack Knox\, Sir John Lavery\, William McCance\, Margaret Morris\, Philip Reeves\, Tom H. Shanks\, Euan Uglow and many others. \n\n\n\nA Mixed Exhibition will run during May. \n\n\n\nFree admission.
URL:https://glasgowblythswoodfestival.co.uk/event/gerber-fine-art/2026-05-01/
LOCATION:Gerber Fine Art Gallery\, 178 West Regent Street\, Glasgow\, G2 4RL\, United Kingdom
CATEGORIES:Arts
ATTACH;FMTTYPE=image/jpeg:https://glasgowblythswoodfestival.co.uk/wp-content/uploads/2026/03/GERBER-composite-Trial5-1.jpg
END:VEVENT
BEGIN:VEVENT
DTSTART;TZID=Europe/London:20260501T100000
DTEND;TZID=Europe/London:20260501T190000
DTSTAMP:20260424T170107
CREATED:20260303T214430Z
LAST-MODIFIED:20260420T215816Z
UID:10000446-1777629600-1777662000@glasgowblythswoodfestival.co.uk
SUMMARY:Paisley Art Institute 137th Annual Open Exhibition
DESCRIPTION:Glasgow Art Club\, 185 Bath Street \n\n\n\nIn its 150th Anniversary Year\, Paisley Art Institute supports and promotes art in its prize-winning 137th Annual Exhibition. With over 500 quality artworks – paintings\, prints\, drawings and sculpture – by 240 talented artists. \n\n\n\nEnjoy the Institute’s home-base in the unique Glasgow Art Club and renowned main gallery with features designed by Charles Rennie Mackintosh. Witness the very best of Scottish creativity all in one vibrant and inspiring space. \n\n\n\nWatch painting demonstrations each week by invited artists. Enjoy also treasures of the Paisley Art Institute’s heritage collection throughout the building. \n\n\n\nOpen Mondays to Saturdays\, 10am to 7pm (excluding Holiday Monday 4th) \n\n\n\nFull catalogue available.  \n\n\n\nFree entry. Refreshments and food available. \n\n\n\nRunning from Saturday 25th April to Saturday 23rd May.
URL:https://glasgowblythswoodfestival.co.uk/event/paisley-art-institute-137th-annual-open-exhibition/2026-05-01/
LOCATION:Glasgow Art Club\, 185 Bath Street\, Glasgow\, G2 4HU\, United Kingdom
CATEGORIES:Arts
ATTACH;FMTTYPE=image/jpeg:https://glasgowblythswoodfestival.co.uk/wp-content/uploads/2026/03/GAC-Glasgow_Art_Club-150-exterior-logo3PAI-M3B2260x-3-1-scaled.jpg
END:VEVENT
BEGIN:VEVENT
DTSTART;TZID=Europe/London:20260501T120000
DTEND;TZID=Europe/London:20260501T220000
DTSTAMP:20260424T170107
CREATED:20260307T130535Z
LAST-MODIFIED:20260309T112732Z
UID:10000506-1777636800-1777672800@glasgowblythswoodfestival.co.uk
SUMMARY:Glasgow Film Theatre
DESCRIPTION:Glasgow Film Theatre\, 12 Rose Street \n\n\n\nThe art-deco Glasgow Film Theatre in Rose Street just off Sauchiehall Street\, built in 1939 as the Cosmo\,  has been leading the way in art cinema for decades. The three screens show 100% specialised titles\, first run world and independent cinema\, artists’ experimental work\,  rarely screened classics and undiscovered gems from countries all around the world\,  thematic seasons\, repertory programmes\, Scottish produced work\, festivals\, and a programme of event cinema and live broadcast. \n\n\n\nGFT is an educational charity\, a hub of activity where children\, families\, and young people learn about film\, communities come together\, and filmmakers of the future develop their careers.  \n\n\n\nOpen seven days a week from 12 noon.   \n\n\n\nFor daily opening times and listings go to   https://www.glasgowfilm.org/home
URL:https://glasgowblythswoodfestival.co.uk/event/glasgow-film-theatre/2026-05-01/
LOCATION:Glasgow Film Theatre\, 12 Rose Street\, Glasgow\, G3 6RB\, United Kingdom
CATEGORIES:Arts
ATTACH;FMTTYPE=image/jpeg:https://glasgowblythswoodfestival.co.uk/wp-content/uploads/2026/03/GFT-MB_Dapple_GFT_16x9-1-scaled.jpg
END:VEVENT
BEGIN:VEVENT
DTSTART;TZID=Europe/London:20260501T130000
DTEND;TZID=Europe/London:20260501T140000
DTSTAMP:20260424T170107
CREATED:20260312T153836Z
LAST-MODIFIED:20260312T154027Z
UID:10000577-1777640400-1777644000@glasgowblythswoodfestival.co.uk
SUMMARY:Royal Conservatoire of Scotland - Plug 8: Fridays at One: Hebrides Ensemble
DESCRIPTION:Hebrides Ensemble return to RCS to perform a collection of new piano quartet works for Plug Festival including the winner of the Walter and Dinah Wolfe Memorial Award 25/26.
URL:https://glasgowblythswoodfestival.co.uk/event/royal-conservatoire-of-scotland-plug-8-fridays-at-one-hebrides-ensemble/
LOCATION:Royal Conservatoire of Scotland\, 100 Renfrew Street\, Glasgow\, G2 3DB\, United Kingdom
ATTACH;FMTTYPE=image/webp:https://glasgowblythswoodfestival.co.uk/wp-content/uploads/2026/03/Hebrides-Ensemble-Cutouts_070823_IG-Square-Post-aspect-ratio-16-10.webp
END:VEVENT
BEGIN:VEVENT
DTSTART;TZID=Europe/London:20260501T143000
DTEND;TZID=Europe/London:20260501T173000
DTSTAMP:20260424T170107
CREATED:20260312T154548Z
LAST-MODIFIED:20260312T154550Z
UID:10000578-1777645800-1777656600@glasgowblythswoodfestival.co.uk
SUMMARY:Royal Conservatoire of Scotland - Classical Concerto Prize
DESCRIPTION:The finalists of the Classical Concerto Prize perform in the Ledger Recital Room for this coveted award. The winner will be given the opportunity to perform their concerto with an RCS ensemble in a future season.
URL:https://glasgowblythswoodfestival.co.uk/event/royal-conservatoire-of-scotland-classical-concerto-prize/
LOCATION:Royal Conservatoire of Scotland\, 100 Renfrew Street\, Glasgow\, G2 3DB\, United Kingdom
CATEGORIES:Music
ATTACH;FMTTYPE=image/webp:https://glasgowblythswoodfestival.co.uk/wp-content/uploads/2026/03/ChamberMusicMasterclass_12.03.2025-6760-copy.webp
END:VEVENT
END:VCALENDAR